BEGIN:VCALENDAR
VERSION:2.0
PRODID:-//AudioTheme 3.0.2
BEGIN:VEVENT
UID:urn:uuid:05ae32f2-cc20-4c41-97a8-ca5b3d459cf9
URL:https://www.joannaperrin.com/shows/2020-10-24/
DTSTART;TZID=GMT:20201024T180000
SUMMARY:New England Virtual Narrator Retreat 2020
DESCRIPTION:3 SESSIONS – DEEP DIVES\, DIRECTED READINGS\, PUBLISHER ROUNDTABLE & A HAPPY HOUR!  We can/will provide Attending Publishers with the email addresses of all attendees.  This is a live event with many moving pieces. It will not be recorded! So be there!  2PM-9PM    
LOCATION:Webinar Via Zoom
END:VEVENT
END:VCALENDAR
