BEGIN:VCALENDAR
VERSION:2.0
PRODID:-//AudioTheme 3.0.2
BEGIN:VEVENT
UID:urn:uuid:c5320c57-4c31-4fae-b1f9-d636ac6981fd
URL:https://www.joannaperrin.com/shows/2022-08-20/
DTSTART;TZID=GMT:20220820T140000
SUMMARY:NEW YORK CITY AUDIOBOOK WORKSHOP AUG. 20-21ST
DESCRIPTION: An Audiobook Weekend Workshop for narrators of all experience levels. We will investigate fiction and non-fiction and work with you on your readings and whatever issues you need to work on!
LOCATION:Open Jar Studios\, 1601 Broadway\, New York\, New York
END:VEVENT
END:VCALENDAR
