BEGIN:VCALENDAR
VERSION:2.0
PRODID:-//AudioTheme 3.0.2
BEGIN:VEVENT
UID:urn:uuid:175787a8-2a8b-4ebb-97fb-70b0bce71c5e
URL:https://www.joannaperrin.com/shows/2023-10-16/
DTSTART;TZID=GMT:20231016T140000
SUMMARY:NEW ENGLAND NARRATOR RETREAT OCT 16-19, 2023
DESCRIPTION:Great Food\, Great Facilities and Great Camaraderie while learning!  Plenty of time to chat with coaches\, publishers and colleagues in a bucolic setting.
LOCATION:Warren Conference Center\, 529 Chestnut Street\, Ashland MA 01721\, Ashland\, MA\, 01721
END:VEVENT
END:VCALENDAR
