BEGIN:VCALENDAR
VERSION:2.0
PRODID:-//AudioTheme 3.0.2
BEGIN:VEVENT
UID:urn:uuid:284333e5-e575-4501-81c0-0fcac29268e6
URL:https://www.joannaperrin.com/shows/2024-10-14/
DTSTART;TZID=GMT:20241014T140000
SUMMARY:NEW ENGLAND NARRATOR RETREAT 2024 Oct. 14-17, 2024
DESCRIPTION:Great Food\, Great Facilities and Great Camaraderie while learning!  Plenty of time to chat with coaches\, publishers and colleagues in a bucolic setting.
LOCATION:NE Narrator Retreat 2024\, The Warren Center\, 529 Chestnut Street\, Ashland\, MA.\, \, Massachusetts
END:VEVENT
END:VCALENDAR
