BEGIN:VCALENDAR
VERSION:2.0
PRODID:-//AudioTheme 3.0.2
BEGIN:VEVENT
UID:urn:uuid:b2d1d6d6-f143-4165-b2d9-3e4021c1619d
URL:https://www.joannaperrin.com/shows/7th-annual-splendiferous-workshop/
DTSTART;TZID=GMT:20210601T170000
SUMMARY:Johnny Heller's 7th ANNUAL SPLENDIFEROUS WORKSHOP
DESCRIPTION: AMANDA QUAID\, ANNELIESE RENNIE\, BILL LORD\, CAROL MONDA\, HILARY HUBER\, JEFFREY KAFER\, JO ANNA PERRIN\, JOHNNY HELLER\, LORRAINE DISIMONE\, PAUL ALAN RUBEN\, RACHEL COLEMAN\, SCOTT BRICK\, SEAN ALLEN PRATT      
LOCATION:7th Anual Splendiferous Workshop\, ZOOM Workshop\, 
END:VEVENT
END:VCALENDAR
