BEGIN:VCALENDAR
VERSION:2.0
PRODID:-//AudioTheme 3.0.2
BEGIN:VEVENT
UID:urn:uuid:da7c9109-2b9c-4336-b38d-a8a80e4a2e57
URL:https://www.joannaperrin.com/shows/adventure-brewery-audiobook-workshop-fredericksburgva-june-34-2023/
DTSTART;TZID=GMT:20230603T140000
SUMMARY:ADVENTURE BREWERY AUDIOBOOK WORKSHOP – FREDERICKSBURG,VA JUNE 3&4 2023
DESCRIPTION:JOIN JOHNNY HELLER\, SEAN PRATT & JO ANNA PERRIN AT ADVENTURE BREWING CO FOR A WEEKEND OF AUDIOBOOK LEARNING LIKE NO OTHER! THE COACHES ARE TOPNOTCH & READY TO WORK WITH YOU NO MATTER WHAT YOUR EXPERIENCE LEVEL. DON’T MISS THIS OPPORTUNITY!   …AND WE’RE GONNA BE AT A BREWERY...
LOCATION:ADVENTURE BREWING CO\, 1113 EMANCIPATION HIGHWAY FREDERICKSBURG\, VA\, FREDERICKSBURG\,\, VA
END:VEVENT
END:VCALENDAR
