BEGIN:VCALENDAR
VERSION:2.0
PRODID:-//AudioTheme 3.0.2
BEGIN:VEVENT
UID:urn:uuid:4d7f78a7-a790-42b9-a501-3f3b9e0310a0
URL:https://www.joannaperrin.com/shows/gig-2626/
DTSTART;TZID=GMT:20220521T133000
SUMMARY:ORLANDO SPLENDIFEROUS WORKSHOP MAY 21 & 22, 2022
DESCRIPTION:THIS WORKSHOP IS FOR ALL LEVELS – from newbies to full-time narrators. Please bring a few pages of Fiction & Non-Fiction for us to work with you on! Everyone will get a chance to work on their reads with our coaches. Your instructors have narrated over 2000 audiobooks between them and are in constant demand!  If you’ve been hoping to take advantage of the audiobook boom\, this is your chance to learn from the best in the business.
LOCATION:ORLANDO SPLENDIFEROUS WORKSHOP MAY 21 & 22\, 2022\, RENAISSANCE ORLANDO AIRPORT HOTEL 5445 FORBES PLACE\, Orlando\, FL\, Orlando\, Florida
END:VEVENT
END:VCALENDAR
