BEGIN:VCALENDAR
VERSION:2.0
PRODID:-//AudioTheme 3.0.2
BEGIN:VEVENT
UID:urn:uuid:11baa2c0-349b-4555-9299-7dd14ff83051
URL:https://www.joannaperrin.com/shows/gig-923/
DTSTART;TZID=GMT:20190202T140000
SUMMARY:THE JOHNNY HELLER VA/DC ONE DAY WORKSHOP
DESCRIPTION:JOHNNY HELLER • CAROL MONDA • JO ANNA PERRIN  Includes breakfast\, lunch\, and all the coaching you can handle from award winning in-demand narrators/coaches with years of experience in the industry.
LOCATION:The Clubhouse at Lake of the Woods\, 102 LAKEVIEW PARKWAY\, LOCUST GROVE\, VA 22508\, 
END:VEVENT
END:VCALENDAR
