BEGIN:VCALENDAR
VERSION:2.0
PRODID:-//AudioTheme 3.0.2
BEGIN:VEVENT
UID:urn:uuid:83e87394-16c2-4343-a6a7-6a2deacf8983
URL:https://www.joannaperrin.com/shows/gig-936/
DTSTART;TZID=GMT:20190528T130000
SUMMARY:The Splendiferous Audiobook Narrator Workshop
DESCRIPTION:Join us on May 28\, 2019 for the 5th Splendiferous Workshop! Current updated agenda can be found at the sign up link.
LOCATION:Baruch College Auditorium\, 55 Lexington Avenue\, NY NY 10010.
END:VEVENT
END:VCALENDAR
