BEGIN:VCALENDAR
VERSION:2.0
PRODID:-//AudioTheme 3.0.2
BEGIN:VEVENT
UID:urn:uuid:cff4eee5-c480-4e36-90ef-6e825e93c89c
URL:https://www.joannaperrin.com/shows/michigan-workshop-2019/
DTSTART;TZID=GMT:20190811T140000
SUMMARY:Michigan Workshop 2019
DESCRIPTION:MICHIGAN AUDIOBOOK WORKSHOP with JOHNNY HELLER\, JAYME MATTLER & JO ANNA PERRIN  10AM-5PM
LOCATION:TVs Grand Event\, 2651 West Jefferson Avenue\, Trenton\, MI\, 48183
END:VEVENT
END:VCALENDAR
