BEGIN:VCALENDAR
VERSION:2.0
PRODID:-//AudioTheme 3.0.2
BEGIN:VEVENT
UID:urn:uuid:bbc56b89-adde-472e-af2e-c31785716c76
URL:https://www.joannaperrin.com/shows/new-england-narrator-retreat-2025-october-13-16-2025/
DTSTART;TZID=GMT:20251013T130000
SUMMARY:New England Narrator Retreat 2025 - October 13-16, 2025
DESCRIPTION:Ten years and going strong! Great food\, facilities\, and camaraderie while learning!  Plenty of time to chat with coaches\, publishers and colleagues in a bucolic setting.
LOCATION:Warren Conference Center\, 529 Chestnut Street\, Ashland MA 01721\, Ashland\, MA\, 01721
END:VEVENT
END:VCALENDAR
