BEGIN:VCALENDAR
VERSION:2.0
PRODID:-//AudioTheme 3.0.2
BEGIN:VEVENT
UID:urn:uuid:4be814ef-7bf1-4b8f-8161-7a2c209ee1ad
URL:https://www.joannaperrin.com/shows/new-england-narrator-retreat-oct-18-21-2021-6th-annual/
DTSTART;VALUE=DATE:20211018
SUMMARY:NEW ENGLAND NARRATOR RETREAT OCT. 18-21, 2021
DESCRIPTION:Join us for our 6th NE Narrator retreat! Coaching\, Publishing guests\, great food\, lovely location\, and in person (!) camaraderie! All attendees must have proof of vaccination.
LOCATION:Warren Conference Center\, 529 Chestnut Street\, Ashland MA 01721\, Ashland\, MA\, 01721
END:VEVENT
END:VCALENDAR
