BEGIN:VCALENDAR
VERSION:2.0
PRODID:-//AudioTheme 3.0.2
BEGIN:VEVENT
UID:urn:uuid:d8d32b4b-a9b2-4310-bf37-05386c11bfd0
URL:https://www.joannaperrin.com/shows/northeast-narrator-retreat-2022/
DTSTART;VALUE=DATE:20221024
SUMMARY:NORTHEAST NARRATOR RETREAT 2022 October 24-27
DESCRIPTION:Great Food\, Great Facilities and Great Camaraderie while learning!  Plenty of time to chat with coaches\, publishers and colleagues in a bucolic setting.
LOCATION:Warren Conference Center\, 529 Chestnut Street\, Ashland MA 01721\, Ashland\, MA\, 01721
END:VEVENT
END:VCALENDAR
