BEGIN:VCALENDAR
VERSION:2.0
PRODID:-//AudioTheme 3.0.2
BEGIN:VEVENT
UID:urn:uuid:d4c0aa1b-6da2-4646-835d-21f611e1f3c9
URL:https://www.joannaperrin.com/shows/seattle-audiobook-workshop/
DTSTART;TZID=GMT:20190907T140000
SUMMARY:Seattle Audiobook Workshop
DESCRIPTION:SEATTLE AUDIOBOOK WORKSHOP with JOHNNY HELLER\, SEAN PRATT & JO ANNA PERRIN  2 Day Workshop Sept.7-8\, 2019 10AM-5PM         
LOCATION:Homewood Suites Seattle Convention Center\, 1011 Pike Street\, Seattle WA 98101
END:VEVENT
END:VCALENDAR
