BEGIN:VCALENDAR
VERSION:2.0
PRODID:-//AudioTheme 3.0.2
BEGIN:VEVENT
UID:urn:uuid:4cee3b91-2d1f-41af-bd2f-d76d2e8d47bc
URL:https://www.joannaperrin.com/shows/splendiferous-webinar-romance-is-it-delightful/
DTSTART;TZID=GMT:20210218T000000
SUMMARY:Splendiferous Webinar: Romance! Is It Delightful?
DESCRIPTION:AUTHORS\, ACTORS\, PUBLISHERS- ANSWERING YOUR QUESTIONS\, SETTING YOUR SOULS SOARING!  Please plan to stay for our Happy Hour where we can all schmooze and pretend we are in the same place.
LOCATION:Webinar\, Your House!
END:VEVENT
END:VCALENDAR
