BEGIN:VCALENDAR
VERSION:2.0
PRODID:-//AudioTheme 3.0.2
BEGIN:VEVENT
UID:urn:uuid:2c26c44d-e3de-473c-a83c-731fc5ac0cce
URL:https://www.joannaperrin.com/shows/splendiferous-workshop-2-non-fiction-deep-dive/
DTSTART;TZID=GMT:20200615T210000
SUMMARY:SPLENDIFEROUS WORKSHOP #2 NON-FICTION DEEP DIVE WEBINAR
DESCRIPTION: 2-3 Hours of Non-Fiction chatter from Non-Fiction stars in performance and directing.  Please send us your questions although we hope to have live chat as well.  WITH PAUL ALAN RUBEN\, JO ANNA PERRIN\,  SEAN ALLEN PRATT & JOHNNY HELLER
LOCATION:Webinar\, Your House!
END:VEVENT
END:VCALENDAR
