BEGIN:VCALENDAR
VERSION:2.0
PRODID:-//AudioTheme 3.0.2
BEGIN:VEVENT
UID:urn:uuid:653c5455-f1dc-4a6b-9314-cefb8b79d90a
URL:https://www.joannaperrin.com/shows/the-audio-book-awards-after-party/
DTSTART;TZID=GMT:20190305T033000
SUMMARY:The Audio Book Awards After Party
LOCATION:Characters\, 243 West 54th Street\, New York\, New York\, 10019
END:VEVENT
END:VCALENDAR
