BEGIN:VCALENDAR
VERSION:2.0
PRODID:-//AudioTheme 3.0.2
BEGIN:VEVENT
UID:urn:uuid:e0e1eee8-3c8f-4500-b1a5-179161cda1d4
URL:https://www.joannaperrin.com/shows/the-new-england-narrator-weekend-retreat/
DTSTART;VALUE=DATE:20191018
SUMMARY:The New England Narrator Weekend Retreat
DESCRIPTION:JOIN US FOR OUR 4th ANNUAL NEW ENGLAND NARRATOR WEEKLEND RETREAT!   October 18-21\, 2019    
LOCATION:Whispering Pines Conference Center\, 27 Loutitt Lane\, West Greenwich\, RI 02817\, Rhode Island\, 
END:VEVENT
END:VCALENDAR
