BEGIN:VCALENDAR
VERSION:2.0
PRODID:-//AudioTheme 3.0.2
BEGIN:VEVENT
UID:urn:uuid:2e01108a-76c2-41aa-98f7-18c6e445391b
URL:https://www.joannaperrin.com/shows/the-not-naudies/
DTSTART;TZID=GMT:20190530T000000
SUMMARY:The Not Naudies
DESCRIPTION:Join us for The Not Naudies! 8PM until...
LOCATION:Connolly's Pub and Restaurant\, 121 West 45th Street\, NYC 10036
END:VEVENT
END:VCALENDAR
