BEGIN:VCALENDAR
VERSION:2.0
PRODID:-//AudioTheme 3.0.2
BEGIN:VEVENT
UID:urn:uuid:6f935abe-ceb4-4de1-aeba-f706ecc8003f
URL:https://www.joannaperrin.com/shows/the-splendiferous-audiobook-narrator-workshop/
DTSTART;TZID=GMT:20200526T130000
SUMMARY:*The Splendiferous Audiobook Narrator Workshop at Baruch
DESCRIPTION:Join us on May 26\, 2020 for the 6th Splendiferous Workshop! Current updated agenda can be found at the sign up link.      *UPDATE: WITH CONCERNS FOR THE SAFETY AND WELLBEING OF All\, THE SPLENDIFEROUS AUDIOBOOK NARRATOR WORKSHOP 2020 HAS BEEN CANCELLED.    
LOCATION:Baruch College Auditorium\, 55 Lexington Avenue\, NY NY 10010.
END:VEVENT
END:VCALENDAR
